BEGIN:VCALENDAR
VERSION:2.0
PRODID:-//Tukios.com/
BEGIN:VEVENT
UID:2ae8f524-b3c6-4685-a3f1-d891603acd76@www.dowdlefuneralhome.net
DTSTAMP:20260419T235151Z
DTSTART:20260422T190000Z
DTEND:20260422T200000Z
SUMMARY:Funeral Service
DESCRIPTION:
URL:https://www.dowdlefuneralhome.net/obituaries/james-porter-jr
LOCATION:Dowdle Funeral Home 270 McAdams St  Millport AL 35576
GEO:33.5612245;-88.0796557
END:VEVENT
END:VCALENDAR