BEGIN:VCALENDAR
VERSION:2.0
PRODID:-//Tukios.com/
BEGIN:VEVENT
UID:0b4878ff-3fc1-4585-ab3e-5dc542f70649@www.dowdlefuneralhome.net
DTSTAMP:20260419T235522Z
DTSTART:20260422T180000Z
DTEND:20260422T190000Z
SUMMARY:Visitation
DESCRIPTION:
URL:https://www.dowdlefuneralhome.net/obituaries/james-porter-jr
LOCATION:Dowdle Funeral Home 270 McAdams St  Millport AL 35576
GEO:33.5612245;-88.0796557
END:VEVENT
END:VCALENDAR