BEGIN:VCALENDAR
VERSION:2.0
PRODID:-//Tukios.com/
BEGIN:VEVENT
UID:7cfb8e94-ee3f-44a1-8264-863cc81875d0@www.dowdlefuneralhome.net
DTSTAMP:20260420T203917Z
DTSTART:20260423T150000Z
DTEND:20260423T160000Z
SUMMARY:Visitation
DESCRIPTION:
URL:https://www.dowdlefuneralhome.net/obituaries/nancy-bradford
LOCATION:Dowdle Funeral Home 270 McAdams St  Millport AL 35576
GEO:33.5612245;-88.0796557
END:VEVENT
END:VCALENDAR