BEGIN:VCALENDAR
VERSION:2.0
PRODID:-//Tukios.com/
BEGIN:VEVENT
UID:eecd70fa-ebec-438b-a3b4-77a688f9bd0d@www.dowdlefuneralhome.net
DTSTAMP:20260420T204245Z
DTSTART:20260423T160000Z
DTEND:20260423T170000Z
SUMMARY:Funeral Service
DESCRIPTION:
URL:https://www.dowdlefuneralhome.net/obituaries/nancy-bradford
LOCATION:Dowdle Funeral Home 270 McAdams St  Millport AL 35576
GEO:33.5612245;-88.0796557
END:VEVENT
END:VCALENDAR